Package: SMAD Version: 1.23.0 Command: /Library/Frameworks/R.framework/Resources/bin/R CMD build --keep-empty-dirs --no-resave-data SMAD StartedAt: 2025-02-20 17:38:27 -0500 (Thu, 20 Feb 2025) EndedAt: 2025-02-20 17:38:37 -0500 (Thu, 20 Feb 2025) EllapsedTime: 9.1 seconds RetCode: 0 Status: OK PackageFile: SMAD_1.23.0.tar.gz PackageFileSize: 397 KiB