Package: SIMLR Version: 1.33.0 Command: rm -rf SIMLR.buildbin-libdir && mkdir SIMLR.buildbin-libdir && E:\biocbuild\bbs-3.21-bioc\R\bin\R.exe CMD INSTALL --build --library=SIMLR.buildbin-libdir SIMLR_1.33.0.tar.gz StartedAt: 2025-02-21 09:07:25 -0500 (Fri, 21 Feb 2025) EndedAt: 2025-02-21 09:08:00 -0500 (Fri, 21 Feb 2025) EllapsedTime: 34.5 seconds RetCode: 0 Status: OK PackageFile: SIMLR_1.33.0.zip PackageFileSize: 4.342 MiB