Package: SIMLR Version: 1.33.0 Command: /Library/Frameworks/R.framework/Resources/bin/R CMD INSTALL SIMLR StartedAt: 2025-02-20 15:06:12 -0500 (Thu, 20 Feb 2025) EndedAt: 2025-02-20 15:06:37 -0500 (Thu, 20 Feb 2025) EllapsedTime: 25.3 seconds RetCode: 0 Status: OK