Package: SIMLR Version: 1.33.0 Command: /Library/Frameworks/R.framework/Resources/bin/R CMD check --install=check:SIMLR.install-out.txt --library=/Library/Frameworks/R.framework/Resources/library --no-vignettes --timings SIMLR_1.33.0.tar.gz StartedAt: 2025-02-20 23:18:50 -0500 (Thu, 20 Feb 2025) EndedAt: 2025-02-20 23:24:04 -0500 (Thu, 20 Feb 2025) EllapsedTime: 314.6 seconds RetCode: 0 Status: OK CheckDir: SIMLR.Rcheck Warnings: 0