Package: SIMLR Version: 1.33.0 Command: /Library/Frameworks/R.framework/Resources/bin/R CMD build --keep-empty-dirs --no-resave-data SIMLR StartedAt: 2025-02-20 18:17:32 -0500 (Thu, 20 Feb 2025) EndedAt: 2025-02-20 18:19:38 -0500 (Thu, 20 Feb 2025) EllapsedTime: 126.8 seconds RetCode: 0 Status: OK PackageFile: SIMLR_1.33.0.tar.gz PackageFileSize: 4.1 MiB