Package: SIMD Version: 1.25.0 Command: /home/biocbuild/bbs-3.21-bioc/R/bin/R CMD build --keep-empty-dirs --no-resave-data SIMD StartedAt: 2025-02-20 19:18:28 -0500 (Thu, 20 Feb 2025) EndedAt: 2025-02-20 19:18:36 -0500 (Thu, 20 Feb 2025) EllapsedTime: 8.0 seconds RetCode: 0 Status: OK PackageFile: SIMD_1.25.0.tar.gz PackageFileSize: 332.8 KiB