Package: SIMD Version: 1.25.0 Command: rm -rf SIMD.buildbin-libdir && mkdir SIMD.buildbin-libdir && /Users/biocbuild/BBS/utils/build-universal.sh SIMD_1.25.0.tar.gz /Library/Frameworks/R.framework/Resources/bin/R SIMD.buildbin-libdir StartedAt: 2025-02-21 00:54:02 -0500 (Fri, 21 Feb 2025) EndedAt: 2025-02-21 00:54:11 -0500 (Fri, 21 Feb 2025) EllapsedTime: 9.3 seconds RetCode: 0 Status: OK PackageFile: SIMD_1.25.0.tgz PackageFileSize: 356.8 KiB