Package: SIMD Version: 1.25.0 Command: /Library/Frameworks/R.framework/Resources/bin/R CMD INSTALL SIMD StartedAt: 2025-02-20 15:03:22 -0500 (Thu, 20 Feb 2025) EndedAt: 2025-02-20 15:03:30 -0500 (Thu, 20 Feb 2025) EllapsedTime: 8.8 seconds RetCode: 0 Status: OK