Package: SIM Version: 1.77.0 Command: chmod a+r SIM -R && E:\biocbuild\bbs-3.21-bioc\R\bin\R.exe CMD build --keep-empty-dirs --no-resave-data SIM StartedAt: 2025-02-19 21:41:20 -0500 (Wed, 19 Feb 2025) EndedAt: 2025-02-19 21:42:12 -0500 (Wed, 19 Feb 2025) EllapsedTime: 52.0 seconds RetCode: 0 Status: OK PackageFile: SIM_1.77.0.tar.gz PackageFileSize: 323.9 KiB