Package: SIM Version: 1.77.0 Command: /home/biocbuild/bbs-3.21-bioc/R/bin/R CMD build --keep-empty-dirs --no-resave-data SIM StartedAt: 2025-02-18 19:08:32 -0500 (Tue, 18 Feb 2025) EndedAt: 2025-02-18 19:09:05 -0500 (Tue, 18 Feb 2025) EllapsedTime: 33.0 seconds RetCode: 0 Status: OK PackageFile: SIM_1.77.0.tar.gz PackageFileSize: 461.5 KiB