Package: SIM Version: 1.77.0 Command: /Library/Frameworks/R.framework/Resources/bin/R CMD check --install=check:SIM.install-out.txt --library=/Library/Frameworks/R.framework/Resources/library --no-vignettes --timings SIM_1.77.0.tar.gz StartedAt: 2025-02-18 23:12:01 -0500 (Tue, 18 Feb 2025) EndedAt: 2025-02-18 23:14:40 -0500 (Tue, 18 Feb 2025) EllapsedTime: 158.5 seconds RetCode: 0 Status: WARNINGS CheckDir: SIM.Rcheck Warnings: 1