Package: SIM Version: 1.77.0 Command: /Library/Frameworks/R.framework/Resources/bin/R CMD build --keep-empty-dirs --no-resave-data SIM StartedAt: 2025-02-18 18:15:28 -0500 (Tue, 18 Feb 2025) EndedAt: 2025-02-18 18:16:09 -0500 (Tue, 18 Feb 2025) EllapsedTime: 41.1 seconds RetCode: 0 Status: OK PackageFile: SIM_1.77.0.tar.gz PackageFileSize: 461 KiB