Package: SIM Version: 1.77.0 Command: /Library/Frameworks/R.framework/Resources/bin/R CMD INSTALL SIM StartedAt: 2025-02-19 15:22:12 -0500 (Wed, 19 Feb 2025) EndedAt: 2025-02-19 15:22:19 -0500 (Wed, 19 Feb 2025) EllapsedTime: 7.6 seconds RetCode: 0 Status: OK