Package: SICtools Version: 1.37.0 Command: /home/biocbuild/R/R/bin/R CMD build --keep-empty-dirs --no-resave-data SICtools StartedAt: 2025-01-29 02:20:54 -0000 (Wed, 29 Jan 2025) EndedAt: 2025-01-29 02:22:05 -0000 (Wed, 29 Jan 2025) EllapsedTime: 70.1 seconds RetCode: 0 Status: OK PackageFile: SICtools_1.37.0.tar.gz PackageFileSize: 1.528 MiB