Package: SICtools Version: 1.37.0 Command: /Library/Frameworks/R.framework/Resources/bin/R CMD build --keep-empty-dirs --no-resave-data SICtools StartedAt: 2025-02-17 17:35:26 -0500 (Mon, 17 Feb 2025) EndedAt: 2025-02-17 17:35:46 -0500 (Mon, 17 Feb 2025) EllapsedTime: 19.2 seconds RetCode: 0 Status: OK PackageFile: SICtools_1.37.0.tar.gz PackageFileSize: 1.531 MiB