Package: SICtools Version: 1.37.0 Command: rm -rf SICtools.buildbin-libdir && mkdir SICtools.buildbin-libdir && /Users/biocbuild/BBS/utils/build-universal.sh SICtools_1.37.0.tar.gz /Library/Frameworks/R.framework/Resources/bin/R SICtools.buildbin-libdir StartedAt: 2025-02-17 22:34:04 -0500 (Mon, 17 Feb 2025) EndedAt: 2025-02-17 22:34:19 -0500 (Mon, 17 Feb 2025) EllapsedTime: 15.3 seconds RetCode: 0 Status: OK PackageFile: SICtools_1.37.0.tgz PackageFileSize: 1.311 MiB