Package: SIAMCAT Version: 2.11.0 Command: E:\biocbuild\bbs-3.21-bioc\R\bin\R.exe CMD INSTALL SIAMCAT StartedAt: 2025-02-20 16:00:03 -0500 (Thu, 20 Feb 2025) EndedAt: 2025-02-20 16:01:14 -0500 (Thu, 20 Feb 2025) EllapsedTime: 71.4 seconds RetCode: 0 Status: OK