Package: SIAMCAT Version: 2.11.0 Command: E:\biocbuild\bbs-3.21-bioc\R\bin\R.exe CMD check --no-multiarch --install=check:SIAMCAT.install-out.txt --library=E:\biocbuild\bbs-3.21-bioc\R\library --no-vignettes --timings SIAMCAT_2.11.0.tar.gz StartedAt: 2025-02-21 05:44:11 -0500 (Fri, 21 Feb 2025) EndedAt: 2025-02-21 05:50:35 -0500 (Fri, 21 Feb 2025) EllapsedTime: 383.7 seconds RetCode: 0 Status: OK CheckDir: SIAMCAT.Rcheck Warnings: 0