Package: SIAMCAT Version: 2.11.0 Command: chmod a+r SIAMCAT -R && E:\biocbuild\bbs-3.21-bioc\R\bin\R.exe CMD build --keep-empty-dirs --no-resave-data SIAMCAT StartedAt: 2025-02-20 21:48:29 -0500 (Thu, 20 Feb 2025) EndedAt: 2025-02-20 21:54:12 -0500 (Thu, 20 Feb 2025) EllapsedTime: 342.6 seconds RetCode: 0 Status: OK PackageFile: SIAMCAT_2.11.0.tar.gz PackageFileSize: 18.5 MiB