Package: SIAMCAT Version: 2.11.0 Command: rm -rf SIAMCAT.buildbin-libdir && mkdir SIAMCAT.buildbin-libdir && E:\biocbuild\bbs-3.21-bioc\R\bin\R.exe CMD INSTALL --build --library=SIAMCAT.buildbin-libdir SIAMCAT_2.11.0.tar.gz StartedAt: 2025-02-21 09:06:06 -0500 (Fri, 21 Feb 2025) EndedAt: 2025-02-21 09:07:44 -0500 (Fri, 21 Feb 2025) EllapsedTime: 98.6 seconds RetCode: 0 Status: OK PackageFile: SIAMCAT_2.11.0.zip PackageFileSize: 10.36 MiB