Package: SIAMCAT Version: 2.11.0 Command: /home/biocbuild/bbs-3.21-bioc/R/bin/R CMD INSTALL SIAMCAT StartedAt: 2025-02-20 15:30:41 -0500 (Thu, 20 Feb 2025) EndedAt: 2025-02-20 15:31:08 -0500 (Thu, 20 Feb 2025) EllapsedTime: 27.4 seconds RetCode: 0 Status: OK