Package: SIAMCAT Version: 2.11.0 Command: /home/biocbuild/bbs-3.21-bioc/R/bin/R CMD build --keep-empty-dirs --no-resave-data SIAMCAT StartedAt: 2025-02-20 19:17:20 -0500 (Thu, 20 Feb 2025) EndedAt: 2025-02-20 19:20:25 -0500 (Thu, 20 Feb 2025) EllapsedTime: 184.2 seconds RetCode: 0 Status: OK PackageFile: SIAMCAT_2.11.0.tar.gz PackageFileSize: 18.85 MiB