Package: SIAMCAT Version: 2.11.0 Command: /Library/Frameworks/R.framework/Resources/bin/R CMD check --install=check:SIAMCAT.install-out.txt --library=/Library/Frameworks/R.framework/Resources/library --no-vignettes --timings SIAMCAT_2.11.0.tar.gz StartedAt: 2025-02-20 21:25:22 -0500 (Thu, 20 Feb 2025) EndedAt: 2025-02-20 21:27:00 -0500 (Thu, 20 Feb 2025) EllapsedTime: 98.2 seconds RetCode: 0 Status: OK CheckDir: SIAMCAT.Rcheck Warnings: 0