############################################################################## ############################################################################## ### ### Running command: ### ### /home/biocbuild/bbs-3.21-bioc/R/bin/R CMD INSTALL SGCP ### ############################################################################## ############################################################################## * installing to library ‘/home/biocbuild/bbs-3.21-bioc/R/site-library’ ERROR: dependencies ‘GOstats’, ‘Rgraphviz’ are not available for package ‘SGCP’ Perhaps try a variation of: install.packages(c('GOstats', 'Rgraphviz')) * removing ‘/home/biocbuild/bbs-3.21-bioc/R/site-library/SGCP’