Package: SGCP Version: 1.7.0 Command: /home/biocbuild/bbs-3.21-bioc/R/bin/R CMD check --install=check:SGCP.install-out.txt --library=/home/biocbuild/bbs-3.21-bioc/R/site-library --timings SGCP_1.7.0.tar.gz StartedAt: 2025-02-20 02:28:42 -0500 (Thu, 20 Feb 2025) EndedAt: 2025-02-20 02:34:29 -0500 (Thu, 20 Feb 2025) EllapsedTime: 346.7 seconds RetCode: 0 Status: OK CheckDir: SGCP.Rcheck Warnings: 0