Package: SGCP Version: 1.7.0 Command: /home/biocbuild/bbs-3.21-bioc/R/bin/R CMD build --keep-empty-dirs --no-resave-data SGCP StartedAt: 2025-02-20 19:16:38 -0500 (Thu, 20 Feb 2025) EndedAt: 2025-02-20 19:16:39 -0500 (Thu, 20 Feb 2025) EllapsedTime: 1.0 seconds RetCode: 1 Status: ERROR PackageFile: None PackageFileSize: NA