############################################################################## ############################################################################## ### ### Running command: ### ### /home/biocbuild/bbs-3.21-bioc/R/bin/R CMD build --keep-empty-dirs --no-resave-data SGCP ### ############################################################################## ############################################################################## * checking for file ‘SGCP/DESCRIPTION’ ... OK * preparing ‘SGCP’: * checking DESCRIPTION meta-information ... OK * installing the package to build vignettes ----------------------------------- ERROR: dependencies ‘GOstats’, ‘Rgraphviz’ are not available for package ‘SGCP’ Perhaps try a variation of: install.packages(c('GOstats', 'Rgraphviz')) * removing ‘/tmp/RtmpJZeaTp/Rinst2288205bbe6b81/SGCP’ ----------------------------------- ERROR: package installation failed