Package: SEtools Version: 1.21.0 Command: E:\biocbuild\bbs-3.21-bioc\R\bin\R.exe CMD INSTALL SEtools StartedAt: 2025-02-20 16:53:32 -0500 (Thu, 20 Feb 2025) EndedAt: 2025-02-20 16:54:18 -0500 (Thu, 20 Feb 2025) EllapsedTime: 45.3 seconds RetCode: 0 Status: OK