Package: SEtools Version: 1.21.0 Command: /Library/Frameworks/R.framework/Resources/bin/R CMD INSTALL SEtools StartedAt: 2025-02-20 15:41:07 -0500 (Thu, 20 Feb 2025) EndedAt: 2025-02-20 15:41:52 -0500 (Thu, 20 Feb 2025) EllapsedTime: 45.3 seconds RetCode: 0 Status: OK