Package: SEtools Version: 1.21.0 Command: /Library/Frameworks/R.framework/Resources/bin/R CMD check --install=check:SEtools.install-out.txt --library=/Library/Frameworks/R.framework/Resources/library --no-vignettes --timings SEtools_1.21.0.tar.gz StartedAt: 2025-02-20 23:13:58 -0500 (Thu, 20 Feb 2025) EndedAt: 2025-02-20 23:18:43 -0500 (Thu, 20 Feb 2025) EllapsedTime: 284.9 seconds RetCode: 0 Status: OK CheckDir: SEtools.Rcheck Warnings: 0