Package: SEtools Version: 1.21.0 Command: /home/biocbuild/R/R/bin/R CMD INSTALL SEtools StartedAt: 2025-01-29 20:31:57 -0000 (Wed, 29 Jan 2025) EndedAt: 2025-01-29 20:32:08 -0000 (Wed, 29 Jan 2025) EllapsedTime: 10.3 seconds RetCode: 1 Status: ERROR