Package: SELEX Version: 1.39.0 Command: rm -rf SELEX.buildbin-libdir && mkdir SELEX.buildbin-libdir && E:\biocbuild\bbs-3.21-bioc\R\bin\R.exe CMD INSTALL --build --library=SELEX.buildbin-libdir SELEX_1.39.0.tar.gz StartedAt: 2025-02-20 08:44:44 -0500 (Thu, 20 Feb 2025) EndedAt: 2025-02-20 08:45:04 -0500 (Thu, 20 Feb 2025) EllapsedTime: 20.0 seconds RetCode: 0 Status: OK PackageFile: SELEX_1.39.0.zip PackageFileSize: 2.765 MiB