Package: SELEX Version: 1.39.0 Command: /home/biocbuild/bbs-3.21-bioc/R/bin/R CMD INSTALL SELEX StartedAt: 2025-02-19 15:16:02 -0500 (Wed, 19 Feb 2025) EndedAt: 2025-02-19 15:16:13 -0500 (Wed, 19 Feb 2025) EllapsedTime: 10.5 seconds RetCode: 0 Status: OK