Package: SELEX Version: 1.39.0 Command: /Library/Frameworks/R.framework/Resources/bin/R CMD INSTALL SELEX StartedAt: 2025-02-19 15:09:27 -0500 (Wed, 19 Feb 2025) EndedAt: 2025-02-19 15:09:43 -0500 (Wed, 19 Feb 2025) EllapsedTime: 15.7 seconds RetCode: 0 Status: OK