Package: SELEX Version: 1.39.0 Command: /Library/Frameworks/R.framework/Resources/bin/R CMD build --keep-empty-dirs --no-resave-data SELEX StartedAt: 2025-02-19 18:14:18 -0500 (Wed, 19 Feb 2025) EndedAt: 2025-02-19 18:14:47 -0500 (Wed, 19 Feb 2025) EllapsedTime: 28.6 seconds RetCode: 0 Status: OK PackageFile: SELEX_1.39.0.tar.gz PackageFileSize: 4.033 MiB