Package: SDAMS Version: 1.27.0 Command: /Library/Frameworks/R.framework/Resources/bin/R CMD INSTALL SDAMS StartedAt: 2025-02-19 15:10:25 -0500 (Wed, 19 Feb 2025) EndedAt: 2025-02-19 15:11:06 -0500 (Wed, 19 Feb 2025) EllapsedTime: 41.2 seconds RetCode: 0 Status: OK