Package: SCnorm Version: 1.29.0 Command: E:\biocbuild\bbs-3.21-bioc\R\bin\R.exe CMD check --no-multiarch --install=check:SCnorm.install-out.txt --library=E:\biocbuild\bbs-3.21-bioc\R\library --no-vignettes --timings SCnorm_1.29.0.tar.gz StartedAt: 2025-02-20 05:11:31 -0500 (Thu, 20 Feb 2025) EndedAt: 2025-02-20 05:15:29 -0500 (Thu, 20 Feb 2025) EllapsedTime: 238.1 seconds RetCode: 0 Status: OK CheckDir: SCnorm.Rcheck Warnings: 0