Package: SCnorm Version: 1.29.0 Command: /home/biocbuild/bbs-3.21-bioc/R/bin/R CMD build --keep-empty-dirs --no-resave-data SCnorm StartedAt: 2025-02-18 19:00:28 -0500 (Tue, 18 Feb 2025) EndedAt: 2025-02-18 19:02:08 -0500 (Tue, 18 Feb 2025) EllapsedTime: 100.1 seconds RetCode: 0 Status: OK PackageFile: SCnorm_1.29.0.tar.gz PackageFileSize: 2.974 MiB