Package: SCnorm Version: 1.29.0 Command: /Library/Frameworks/R.framework/Resources/bin/R CMD build --keep-empty-dirs --no-resave-data SCnorm StartedAt: 2025-02-18 17:34:46 -0500 (Tue, 18 Feb 2025) EndedAt: 2025-02-18 17:35:31 -0500 (Tue, 18 Feb 2025) EllapsedTime: 44.5 seconds RetCode: 0 Status: OK PackageFile: SCnorm_1.29.0.tar.gz PackageFileSize: 2.974 MiB