Package: SCOPE Version: 1.19.0 Command: rm -rf SCOPE.buildbin-libdir && mkdir SCOPE.buildbin-libdir && /Users/biocbuild/BBS/utils/build-universal.sh SCOPE_1.19.0.tar.gz /Library/Frameworks/R.framework/Resources/bin/R SCOPE.buildbin-libdir StartedAt: 2025-02-21 00:52:17 -0500 (Fri, 21 Feb 2025) EndedAt: 2025-02-21 00:53:08 -0500 (Fri, 21 Feb 2025) EllapsedTime: 50.9 seconds RetCode: 0 Status: OK PackageFile: SCOPE_1.19.0.tgz PackageFileSize: 578.6 KiB