Package: SCFA Version: 1.17.0 Command: rm -rf SCFA.buildbin-libdir && mkdir SCFA.buildbin-libdir && E:\biocbuild\bbs-3.21-bioc\R\bin\R.exe CMD INSTALL --build --library=SCFA.buildbin-libdir SCFA_1.17.0.tar.gz StartedAt: 2025-02-20 08:42:29 -0500 (Thu, 20 Feb 2025) EndedAt: 2025-02-20 08:42:48 -0500 (Thu, 20 Feb 2025) EllapsedTime: 19.0 seconds RetCode: 0 Status: OK PackageFile: SCFA_1.17.0.zip PackageFileSize: 1.405 MiB