Package: SCFA Version: 1.17.0 Command: /Library/Frameworks/R.framework/Resources/bin/R CMD INSTALL SCFA StartedAt: 2025-02-19 15:20:05 -0500 (Wed, 19 Feb 2025) EndedAt: 2025-02-19 15:20:09 -0500 (Wed, 19 Feb 2025) EllapsedTime: 4.6 seconds RetCode: 0 Status: OK