Package: SCFA Version: 1.17.0 Command: /Library/Frameworks/R.framework/Resources/bin/R CMD build --keep-empty-dirs --no-resave-data SCFA StartedAt: 2025-02-19 17:32:28 -0500 (Wed, 19 Feb 2025) EndedAt: 2025-02-19 17:33:43 -0500 (Wed, 19 Feb 2025) EllapsedTime: 74.9 seconds RetCode: 0 Status: OK PackageFile: SCFA_1.17.0.tar.gz PackageFileSize: 1.24 MiB