Package: SCFA Version: 1.17.0 Command: rm -rf SCFA.buildbin-libdir && mkdir SCFA.buildbin-libdir && /Users/biocbuild/BBS/utils/build-universal.sh SCFA_1.17.0.tar.gz /Library/Frameworks/R.framework/Resources/bin/R SCFA.buildbin-libdir StartedAt: 2025-02-19 22:37:25 -0500 (Wed, 19 Feb 2025) EndedAt: 2025-02-19 22:37:30 -0500 (Wed, 19 Feb 2025) EllapsedTime: 5.1 seconds RetCode: 0 Status: OK PackageFile: SCFA_1.17.0.tgz PackageFileSize: 1.402 MiB