Package: SCBN Version: 1.25.0 Command: E:\biocbuild\bbs-3.21-bioc\R\bin\R.exe CMD INSTALL SCBN StartedAt: 2025-02-17 15:20:39 -0500 (Mon, 17 Feb 2025) EndedAt: 2025-02-17 15:20:49 -0500 (Mon, 17 Feb 2025) EllapsedTime: 10.4 seconds RetCode: 0 Status: OK