Package: SCBN Version: 1.25.0 Command: chmod a+r SCBN -R && E:\biocbuild\bbs-3.21-bioc\R\bin\R.exe CMD build --keep-empty-dirs --no-resave-data SCBN StartedAt: 2025-02-17 21:16:12 -0500 (Mon, 17 Feb 2025) EndedAt: 2025-02-17 21:17:31 -0500 (Mon, 17 Feb 2025) EllapsedTime: 79.7 seconds RetCode: 0 Status: OK PackageFile: SCBN_1.25.0.tar.gz PackageFileSize: 516.1 KiB