Package: SCBN Version: 1.25.0 Command: rm -rf SCBN.buildbin-libdir && mkdir SCBN.buildbin-libdir && E:\biocbuild\bbs-3.21-bioc\R\bin\R.exe CMD INSTALL --build --library=SCBN.buildbin-libdir SCBN_1.25.0.tar.gz StartedAt: 2025-02-18 08:14:16 -0500 (Tue, 18 Feb 2025) EndedAt: 2025-02-18 08:14:24 -0500 (Tue, 18 Feb 2025) EllapsedTime: 7.9 seconds RetCode: 0 Status: OK PackageFile: SCBN_1.25.0.zip PackageFileSize: 653.9 KiB