Package: SCBN Version: 1.25.0 Command: /home/biocbuild/bbs-3.21-bioc/R/bin/R CMD INSTALL SCBN StartedAt: 2025-02-17 15:02:38 -0500 (Mon, 17 Feb 2025) EndedAt: 2025-02-17 15:02:46 -0500 (Mon, 17 Feb 2025) EllapsedTime: 7.6 seconds RetCode: 0 Status: OK