Package: SCBN Version: 1.25.0 Command: /home/biocbuild/bbs-3.21-bioc/R/bin/R CMD check --install=check:SCBN.install-out.txt --library=/home/biocbuild/bbs-3.21-bioc/R/site-library --timings SCBN_1.25.0.tar.gz StartedAt: 2025-02-18 01:52:30 -0500 (Tue, 18 Feb 2025) EndedAt: 2025-02-18 01:54:59 -0500 (Tue, 18 Feb 2025) EllapsedTime: 149.2 seconds RetCode: 0 Status: OK CheckDir: SCBN.Rcheck Warnings: 0