Package: SCBN Version: 1.25.0 Command: /home/biocbuild/bbs-3.21-bioc/R/bin/R CMD build --keep-empty-dirs --no-resave-data SCBN StartedAt: 2025-02-17 18:58:50 -0500 (Mon, 17 Feb 2025) EndedAt: 2025-02-17 18:59:50 -0500 (Mon, 17 Feb 2025) EllapsedTime: 60.1 seconds RetCode: 0 Status: OK PackageFile: SCBN_1.25.0.tar.gz PackageFileSize: 516.3 KiB